BEGIN:VCALENDAR
VERSION:2.0
PRODID:-// - ECPv6.15.20//NONSGML v1.0//EN
CALSCALE:GREGORIAN
METHOD:PUBLISH
X-ORIGINAL-URL:https://hannut-chapter.be
X-WR-CALDESC:Évènements pour 
REFRESH-INTERVAL;VALUE=DURATION:PT1H
X-Robots-Tag:noindex
X-PUBLISHED-TTL:PT1H
BEGIN:VTIMEZONE
TZID:Europe/Brussels
BEGIN:DAYLIGHT
TZOFFSETFROM:+0100
TZOFFSETTO:+0200
TZNAME:CEST
DTSTART:20250330T010000
END:DAYLIGHT
BEGIN:STANDARD
TZOFFSETFROM:+0200
TZOFFSETTO:+0100
TZNAME:CET
DTSTART:20251026T010000
END:STANDARD
BEGIN:DAYLIGHT
TZOFFSETFROM:+0100
TZOFFSETTO:+0200
TZNAME:CEST
DTSTART:20260329T010000
END:DAYLIGHT
BEGIN:STANDARD
TZOFFSETFROM:+0200
TZOFFSETTO:+0100
TZNAME:CET
DTSTART:20261025T010000
END:STANDARD
BEGIN:DAYLIGHT
TZOFFSETFROM:+0100
TZOFFSETTO:+0200
TZNAME:CEST
DTSTART:20270328T010000
END:DAYLIGHT
BEGIN:STANDARD
TZOFFSETFROM:+0200
TZOFFSETTO:+0100
TZNAME:CET
DTSTART:20271031T010000
END:STANDARD
END:VTIMEZONE
BEGIN:VEVENT
DTSTART;TZID=Europe/Brussels:20261002T180000
DTEND;TZID=Europe/Brussels:20261002T223000
DTSTAMP:20260422T131854
CREATED:20250225T150823Z
LAST-MODIFIED:20260215T095003Z
UID:1142492-1790964000-1790980200@hannut-chapter.be
SUMMARY:Réunion HCB
DESCRIPTION:Notre prochain rendez-vous\nau quartier général.\nRepas à 18h avant la réunion : pensez à réserver à temps ! \nRéunion à partir de 20h \nConvivialité et bonne humeur \n  \n  \n  \n  \n  \n 
URL:https://hannut-chapter.be/event/reunion-hcb-10/
CATEGORIES:Réunion
END:VEVENT
BEGIN:VEVENT
DTSTART;VALUE=DATE:20261024
DTEND;VALUE=DATE:20261026
DTSTAMP:20260422T131854
CREATED:20260215T101013Z
LAST-MODIFIED:20260215T101013Z
UID:1462359-1792800000-1792972799@hannut-chapter.be
SUMMARY:500 Miles Antwerp Diamond Port Chapter
DESCRIPTION:
URL:https://hannut-chapter.be/event/500-miles-antwerp-diamond-port-chapter/
CATEGORIES:Activité Nationale
END:VEVENT
BEGIN:VEVENT
DTSTART;VALUE=DATE:20261031
DTEND;VALUE=DATE:20261101
DTSTAMP:20260422T131854
CREATED:20251011T091244Z
LAST-MODIFIED:20260215T094941Z
UID:1344943-1793404800-1793491199@hannut-chapter.be
SUMMARY:HCB - Soirée Halloween
DESCRIPTION:
URL:https://hannut-chapter.be/event/hcb-soiree-halloween-2/
CATEGORIES:Activité HCB
END:VEVENT
END:VCALENDAR