BEGIN:VCALENDAR
VERSION:2.0
PRODID:-// - ECPv6.15.20//NONSGML v1.0//EN
CALSCALE:GREGORIAN
METHOD:PUBLISH
X-ORIGINAL-URL:https://hannut-chapter.be
X-WR-CALDESC:Évènements pour 
REFRESH-INTERVAL;VALUE=DURATION:PT1H
X-Robots-Tag:noindex
X-PUBLISHED-TTL:PT1H
BEGIN:VTIMEZONE
TZID:Europe/Brussels
BEGIN:DAYLIGHT
TZOFFSETFROM:+0100
TZOFFSETTO:+0200
TZNAME:CEST
DTSTART:20250330T010000
END:DAYLIGHT
BEGIN:STANDARD
TZOFFSETFROM:+0200
TZOFFSETTO:+0100
TZNAME:CET
DTSTART:20251026T010000
END:STANDARD
BEGIN:DAYLIGHT
TZOFFSETFROM:+0100
TZOFFSETTO:+0200
TZNAME:CEST
DTSTART:20260329T010000
END:DAYLIGHT
BEGIN:STANDARD
TZOFFSETFROM:+0200
TZOFFSETTO:+0100
TZNAME:CET
DTSTART:20261025T010000
END:STANDARD
BEGIN:DAYLIGHT
TZOFFSETFROM:+0100
TZOFFSETTO:+0200
TZNAME:CEST
DTSTART:20270328T010000
END:DAYLIGHT
BEGIN:STANDARD
TZOFFSETFROM:+0200
TZOFFSETTO:+0100
TZNAME:CET
DTSTART:20271031T010000
END:STANDARD
END:VTIMEZONE
BEGIN:VEVENT
DTSTART;TZID=Europe/Brussels:20260807T180000
DTEND;TZID=Europe/Brussels:20260807T223000
DTSTAMP:20260420T105223
CREATED:20250225T150733Z
LAST-MODIFIED:20251011T085743Z
UID:1142487-1786125600-1786141800@hannut-chapter.be
SUMMARY:Réunion HCB
DESCRIPTION:Notre prochain rendez-vous\nau quartier général.\nRepas à 18h avant la réunion : pensez à réserver à temps ! \nRéunion à partir de 20h \nConvivialité et bonne humeur \n  \n  \n  \n  \n  \n 
URL:https://hannut-chapter.be/event/reunion-hcb-8/
CATEGORIES:Réunion
END:VEVENT
BEGIN:VEVENT
DTSTART;VALUE=DATE:20260821
DTEND;VALUE=DATE:20260824
DTSTAMP:20260420T105223
CREATED:20260215T100602Z
LAST-MODIFIED:20260215T100602Z
UID:1462342-1787270400-1787529599@hannut-chapter.be
SUMMARY:Raid Bulles Reims Champagne Chapter
DESCRIPTION:
URL:https://hannut-chapter.be/event/raid-bulles-reims-champagne-chapter/
CATEGORIES:Activité Internationale
END:VEVENT
BEGIN:VEVENT
DTSTART;VALUE=DATE:20260828
DTEND;VALUE=DATE:20260831
DTSTAMP:20260420T105223
CREATED:20260215T100640Z
LAST-MODIFIED:20260215T100640Z
UID:1462346-1787875200-1788134399@hannut-chapter.be
SUMMARY:Rallye Orval Country Chapter
DESCRIPTION:
URL:https://hannut-chapter.be/event/rallye-orval-country-chapter/
CATEGORIES:Activité Nationale
END:VEVENT
BEGIN:VEVENT
DTSTART;VALUE=DATE:20260830
DTEND;VALUE=DATE:20260831
DTSTAMP:20260420T105223
CREATED:20260215T100711Z
LAST-MODIFIED:20260215T100711Z
UID:1462349-1788048000-1788134399@hannut-chapter.be
SUMMARY:Ride Out - Brussels Chapter
DESCRIPTION:
URL:https://hannut-chapter.be/event/ride-out-brussels-chapter/
CATEGORIES:Activité Nationale
END:VEVENT
END:VCALENDAR